BEGIN:VCALENDAR
VERSION:2.0
PRODID:-//Destiny Stronger - ECPv6.15.20//NONSGML v1.0//EN
CALSCALE:GREGORIAN
METHOD:PUBLISH
X-WR-CALNAME:Destiny Stronger
X-ORIGINAL-URL:https://destinystronger.org
X-WR-CALDESC:Events for Destiny Stronger
REFRESH-INTERVAL;VALUE=DURATION:PT1H
X-Robots-Tag:noindex
X-PUBLISHED-TTL:PT1H
BEGIN:VTIMEZONE
TZID:America/Chicago
BEGIN:DAYLIGHT
TZOFFSETFROM:-0600
TZOFFSETTO:-0500
TZNAME:CDT
DTSTART:20200308T080000
END:DAYLIGHT
BEGIN:STANDARD
TZOFFSETFROM:-0500
TZOFFSETTO:-0600
TZNAME:CST
DTSTART:20201101T070000
END:STANDARD
BEGIN:DAYLIGHT
TZOFFSETFROM:-0600
TZOFFSETTO:-0500
TZNAME:CDT
DTSTART:20210314T080000
END:DAYLIGHT
BEGIN:STANDARD
TZOFFSETFROM:-0500
TZOFFSETTO:-0600
TZNAME:CST
DTSTART:20211107T070000
END:STANDARD
BEGIN:DAYLIGHT
TZOFFSETFROM:-0600
TZOFFSETTO:-0500
TZNAME:CDT
DTSTART:20220313T080000
END:DAYLIGHT
BEGIN:STANDARD
TZOFFSETFROM:-0500
TZOFFSETTO:-0600
TZNAME:CST
DTSTART:20221106T070000
END:STANDARD
END:VTIMEZONE
BEGIN:VEVENT
DTSTART;TZID=America/Chicago:20210918T180000
DTEND;TZID=America/Chicago:20210918T180000
DTSTAMP:20260423T010905
CREATED:20210830T161953Z
LAST-MODIFIED:20210831T171037Z
UID:1523-1631988000-1631988000@destinystronger.org
SUMMARY:Go Gold Party Celebration of Life
DESCRIPTION:Go Gold Party Celebration of life of Destiny Riekeberg and Childhood Cancer Awareness party at the Riekeberg’s. This event is a gathering of family and friends to celebrate and honor the life of Destiny Arianna Kay Riekeberg \nThis private event and is by invite only.
URL:https://destinystronger.org/event/go-gold-party-celebration-of-life/
CATEGORIES:Destinty StrongER Event,Private Event
END:VEVENT
END:VCALENDAR